BEGIN:VCALENDAR
VERSION:2.0
PRODID:-//https://faithvictoria.org.au///NONSGML kigkonsult.se iCalcreator 2.10.15//
METHOD:PUBLISH
BEGIN:VEVENT
UID:20260421T083521UTC-1010Lv1Z8t@https://faithvictoria.org.au/
DTSTAMP:20260421T083521Z
DESCRIPTION:Bendigo Interfaith Council invites you to:\nSpeaking in Harmony
  Against Racism &amp\; Discrimination\nDate: Thursday 26 March 2026&nbsp\;
  &nbsp\;&nbsp\;Time:&nbsp\;6pm to 9:30pmLocation: The Lansell Room\, All S
 easons\, 171 McIvor Highway\, Strathdale\nAn opportunity for people of all
  faiths or none to gather in friendship for good food\, good company and m
 uch laughter.All food is Halal certified with a vegetarian option availabl
 e. Please indicate this requirement when booking under special dietary req
 uirement.Tables of 8 are available. Just book 8 tickets together when book
 ing.&nbsp\;\nGuest Speaker: Our speaker this year is Bishop Philip Huggins
 \, Anglican Diocese of Melbourne. Philip is a member of the National Execu
 tive of Religions for Peace Australia and has a long engagement with advoc
 acy on discrimation and climate change.&nbsp\;&nbsp\;From the family farm 
 near Boort\, to ordination in Bendigo\, and now advocating for peace aroun
 d the world. Philip is an Adjunct Professor at Charles Sturt University’s 
 Australian Centre for Christianity and Culture. He is also Patron of Austr
 alian Religious Response to Climate Change\, a member of the Interfaith Li
 aison Committee to the United Nations Framework Convention on Climate Chan
 ge\, and a member of the National Executive of Religions for Peace Austral
 ia\nTickets: $65 | Click here for booking https://faithvictoria.org.au/upc
 oming-events/event/2438-speaking-in-harmony-against-racism-discrimination-
 bendigo-interfaith-council
DTSTART:20260326T180000Z
DTEND:20260326T213000Z
LOCATION:The Lansell Room\, All Seasons\, 171 McIvor Hwy\, Strathdale VIC 3
 550 (171 McIvor Hwy\, Strathdale VIC 3550\, Australia)
SUMMARY:Speaking in Harmony Against Racism & Discrimination: Bendigo Interf
 aith Council
URL:https://faithvictoria.org.au/upcoming-events/event/2438-speaking-in-har
 mony-against-racism-discrimination-bendigo-interfaith-council
END:VEVENT
END:VCALENDAR
