BEGIN:VCALENDAR
VERSION:2.0
PRODID:-//https://faithvictoria.org.au///NONSGML kigkonsult.se iCalcreator 2.10.15//
METHOD:PUBLISH
BEGIN:VEVENT
UID:20260426T033500UTC-89219Vg2rj@https://faithvictoria.org.au/
DTSTAMP:20260426T033500Z
DESCRIPTION:The Council of Christians and Jews Vic (Inc) invite you to:\nMa
 y the Year end with its Woes. May the Year begin with its Blessings\nDate:
  Monday 29 September 2025&nbsp\; &nbsp\; &nbsp\;Time: 7:30pm to 9:30pmLoca
 tion:&nbsp\;St John's East Malvern\, 5 Finch St\, Malvern East VIC 3145\nR
 abbi Michael (Micky) Boyden was born in London but has lived in Israel for
  forty years\, holding a number of senior leadership roles in the Progress
 ive community. He is a sought after\, international speaker and commentato
 r on a range of topics. Rabbi Boyden is visiting Australia as guest rabbi 
 of Kedem Progressive Congregation\, Armadale.\nCost: $10 | Click here for 
 tickets https://faithvictoria.org.au/upcoming-events/event/2432-may-the-ye
 ar-end-with-its-woes-may-the-year-begin-with-its-blessings-the-council-of-
 christians-and-jews-vic-inc
DTSTART:20250929T193000Z
DTEND:20250929T213000Z
LOCATION:St John's East Malvern\, 5 Finch St\, Malvern East VIC 3145 (5 Fin
 ch St\, Malvern East VIC 3145\, Australia)
SUMMARY:May the Year end with its Woes. May the Year begin with its Blessin
 gs: The Council of Christians and Jews Vic (Inc)
URL:https://faithvictoria.org.au/upcoming-events/event/2432-may-the-year-en
 d-with-its-woes-may-the-year-begin-with-its-blessings-the-council-of-chris
 tians-and-jews-vic-inc
END:VEVENT
END:VCALENDAR
