BEGIN:VCALENDAR
VERSION:2.0
PRODID:-//https://faithvictoria.org.au///NONSGML kigkonsult.se iCalcreator 2.10.15//
METHOD:PUBLISH
BEGIN:VEVENT
UID:20260426T031542UTC-17029jXTUD@https://faithvictoria.org.au/
DTSTAMP:20260426T031542Z
DESCRIPTION:Kehilat Nitzan\, JCCV\, and the Council for Christians and Jews
 .invite you to:\nPre-Rosh Hashana Seder\nDate: Sunday 7 September 2025&nbs
 p\; &nbsp\; &nbsp\;Time: 6pmLocation:&nbsp\;Kehilat Nitzan\, 36-40 Hawthor
 n Road\, Caulfield North&nbsp\;\nJoin us for a Rosh Hashana Seder with an 
 open and interactive discussion among individuals of diverse backgrounds a
 nd beliefs. The Seder includes blessings\, festive songs and biblical read
 ings During the evening\,&nbsp\;a three-course vegetarian meal based aroun
 d symbolic foods will be served.\nSpaces are limited. Our policy is that&n
 bsp\;no one will be turned away because they are unable to pay. Please con
 tact us if you require financial assistance to attend.&nbsp\;\nClick here 
 to register | Tickets: $25 https://faithvictoria.org.au/upcoming-events/ev
 ent/2421-pre-rosh-hashana-interfaith-seder-2025-council-of-christians-and-
 jews-victoria
DTSTART:20250907T180000Z
DTEND:20250907T210000Z
LOCATION:Kehilat Nitzan\, 36-40 Hawthorn Road\, Caulfield North 3161   (36/
 40 Hawthorn Road\, Caulfield North VIC 3161\, Australia)
SUMMARY:Pre-Rosh Hashana Interfaith Seder 2025: Council of Christians and J
 ews Victoria
URL:https://faithvictoria.org.au/upcoming-events/event/2421-pre-rosh-hashan
 a-interfaith-seder-2025-council-of-christians-and-jews-victoria
END:VEVENT
END:VCALENDAR
