BEGIN:VCALENDAR
VERSION:2.0
PRODID:-//https://faithvictoria.org.au///NONSGML kigkonsult.se iCalcreator 2.10.15//
METHOD:PUBLISH
BEGIN:VEVENT
UID:20260424T165623UTC-1607oDx17I@https://faithvictoria.org.au/
DTSTAMP:20260424T165623Z
DESCRIPTION:ChristmasFriday 25 December 2026Religion: Christianity\nChristm
 as is the celebration of the birth of Jesus Christ\, who is considered by 
 Christians to be the Son of God\, and the savior of all people.\n[Celebrat
 ed on January 7th 2025 by some Orthodox Churches]. https://faithvictoria.o
 rg.au/upcoming-events/event/2417-christmas-christianity
DTSTART;VALUE=DATE:20261225
LOCATION:RSEvents!Pro Location (Colorado\, USA)
SUMMARY:Christmas (Christianity)
URL:https://faithvictoria.org.au/upcoming-events/event/2417-christmas-chris
 tianity
END:VEVENT
END:VCALENDAR
