BEGIN:VCALENDAR
VERSION:2.0
PRODID:-//https://faithvictoria.org.au///NONSGML kigkonsult.se iCalcreator 2.10.15//
METHOD:PUBLISH
BEGIN:VEVENT
UID:20260426T031525UTC-2225x5Sov0@https://faithvictoria.org.au/
DTSTAMP:20260426T031525Z
DESCRIPTION:Birth of Guru Nanak Dev Sahib Ji Tuesday 24 November 2026Religi
 on: Sikhism\nObserves the birth of Sri Guru Nanak Dev Sahib Ji\, the found
 er of the Sikh religion\, born in 1469 CE. An accomplished poet\, 974 of h
 is hymns are part of the Sikh scriptures (Guru Granth Sahib). https://fait
 hvictoria.org.au/upcoming-events/event/2410-birth-of-guru-nanak-dev-sahib-
 ji-sikhism
DTSTART;VALUE=DATE:20261124
LOCATION:RSEvents!Pro Location (Colorado\, USA)
SUMMARY:Birth of Guru Nanak Dev Sahib Ji (Sikhism)
URL:https://faithvictoria.org.au/upcoming-events/event/2410-birth-of-guru-n
 anak-dev-sahib-ji-sikhism
END:VEVENT
END:VCALENDAR
