BEGIN:VCALENDAR
VERSION:2.0
PRODID:-//https://faithvictoria.org.au///NONSGML kigkonsult.se iCalcreator 2.10.15//
METHOD:PUBLISH
BEGIN:VEVENT
UID:20260426T002441UTC-7168VmpRcf@https://faithvictoria.org.au/
DTSTAMP:20260426T002441Z
DESCRIPTION:Holy Day: Mahavira Nirvana (Diwali)Date: Monday 9 November 2026
 Faith: Jainism\nMahavira Nirvana is the day Lord Mahavira\, the 24th and l
 ast enlightened spiritual Master (Tirthankar)\, gave his last teachings an
 d attained ultimate liberation (Nirvana). https://faithvictoria.org.au/upc
 oming-events/event/2407-mahavir-nirvana-jainism
DTSTART;VALUE=DATE:20261109
LOCATION:RSEvents!Pro Location (Colorado\, USA)
SUMMARY:Mahavir Nirvana | Jainism
URL:https://faithvictoria.org.au/upcoming-events/event/2407-mahavir-nirvana
 -jainism
END:VEVENT
END:VCALENDAR
