BEGIN:VCALENDAR
VERSION:2.0
PRODID:-//https://faithvictoria.org.au///NONSGML kigkonsult.se iCalcreator 2.10.15//
METHOD:PUBLISH
BEGIN:VEVENT
UID:20260421T112450UTC-9683hPbuwJ@https://faithvictoria.org.au/
DTSTAMP:20260421T112450Z
DESCRIPTION:Women's International League for Peace and Freedom&nbsp\;invite
 s you to:\nMending our social fabric: Learning from Palestinian and Israel
 i women peace builder\nDate: Sunday 31 August 2025&nbsp\; &nbsp\; &nbsp\; 
 Time:&nbsp\;6:30pm for a 7pm startLocation:&nbsp\;Inner South-East suburb 
 of Melbourne/Narrm\nSpeakers:\nPeta Jones Pellach is an educator\, activis
 t\, and blogger.&nbsp\;She is committed to interfaith&nbsp\;dialogue and p
 eace-building. She is&nbsp\;Director of Education\, Elijah Interfaith&nbsp
 \;Institute\, co-founder and moderator of Praying Together in Jerusalem an
 d an active member of&nbsp\;Women Wage Peace.\nRiman Barakat&nbsp\;is a ve
 teran&nbsp\;peacebuilder and social entrepreneur from East Jerusalem. She 
 currently serves as the co-CEO of&nbsp\;FeelBeit\, an Israeli-Palestinian 
 cultural center on Jerusalem’s East-West boundary that harnesses the trans
 formative power of the arts to bridge divides\, foster dialogue\, and prot
 otype a shared future.\nModerator:\nMargaret Hepworth is an inspiring peac
 e educator\, speaker\, and advocate for non-violence and building social c
 ohesion. She is currently serving as the Victorian Education Coordinator f
 or Together for Humanity and founder of the peace education initiative\, T
 he Gandhi Experiment.&nbsp\;\nCost: $18/$10 concession / free for the unwa
 ged and those unable to pay at this time.&nbsp\;\nRegister here\nFor quest
 ions about the event please email jim@victas.uca.org.au&nbsp\;or melindajo
 nes613@gmail.com&nbsp\; https://faithvictoria.org.au/upcoming-events/event
 /2361-mending-our-social-fabric-learning-from-palestinian-and-israeli-wome
 n-peace-builders-womens-international-league-for-peace-and-freedom
DTSTART:20250831T183000Z
DTEND:20250831T210000Z
LOCATION:Melbourne VIC 3000 (Melbourne VIC\, Australia)
SUMMARY:Mending our social fabric: Learning from Palestinian and Israeli wo
 men peace builders: Women's International League for Peace and Freedom
URL:https://faithvictoria.org.au/upcoming-events/event/2361-mending-our-soc
 ial-fabric-learning-from-palestinian-and-israeli-women-peace-builders-wome
 ns-international-league-for-peace-and-freedom
END:VEVENT
END:VCALENDAR
