BEGIN:VCALENDAR
VERSION:2.0
PRODID:-//https://faithvictoria.org.au///NONSGML kigkonsult.se iCalcreator 2.10.15//
METHOD:PUBLISH
BEGIN:VEVENT
UID:20260422T141245UTC-08883OumNV@https://faithvictoria.org.au/
DTSTAMP:20260422T141245Z
DESCRIPTION:Muslim Women's Council of Victoria invites you to:\nOne Coffee 
 One Chat\nDate:&nbsp\;Saturday 9 November 2024&nbsp\; &nbsp\; &nbsp\;&nbsp
 \;Time: 11amLocation:&nbsp\;Brunswick Uniting Church\, 212 Sydney Rd\, Bru
 nswick&nbsp\;\nLet's build a friendly community and all we need is a cup o
 f coffee together!\nRSVP: 0483 881 899 | info@mcwv.org&nbsp\; https://fait
 hvictoria.org.au/upcoming-events/event/2291-one-coffee-one-chat-muslim-wom
 ens-council-of-victoria
DTSTART:20241109T110000Z
DTEND:20241109T130000Z
LOCATION:Brunswick Uniting Church\, 212 Sydney Rd\, Brunswick VIC 3056 (212
  Sydney Rd\, Brunswick VIC 3056\, Australia)
SUMMARY:One Coffee One Chat: Muslim Women's Council of Victoria
URL:https://faithvictoria.org.au/upcoming-events/event/2291-one-coffee-one-
 chat-muslim-womens-council-of-victoria
END:VEVENT
END:VCALENDAR
