BEGIN:VCALENDAR
VERSION:2.0
PRODID:-//https://faithvictoria.org.au///NONSGML kigkonsult.se iCalcreator 2.10.15//
METHOD:PUBLISH
BEGIN:VEVENT
UID:20260423T034531UTC-6249ubGKFr@https://faithvictoria.org.au/
DTSTAMP:20260423T034531Z
DESCRIPTION:The Council of Christians and Jews Victoria invites you to:\nRo
 salie Hanley NDS Conversation: A Friendly Guide to Jewish-Christian Relati
 ons&nbsp\;\nDate: Sunday 17 November 2024&nbsp\; &nbsp\; &nbsp\;Time: 2pm 
 to 4:30pmLocation:&nbsp\;Our Lady of Sion College\, 1065 Whitehorse Rd\, B
 ox Hill VIC 3128\nFeaturing Sr Mary Reaburn NDS and Rabbi Jacqueline Ninio
  OAM\nMary Reaburn is a Sister of Our Lady of Sion. She teaches at Yarra T
 heological Union (YTU). She is a member of the Australian Catholic Bishops
 ’ Council for Ecumenism and Religious Relations with the Jews.\nJacqueline
  Ninio is the Senior Associate Rabbi at Emanuel Synagogue in Sydney. In Ju
 ne this year\, she was awarded the Medal of the Order of Australia (OAM) f
 or her service to the Jewish community and interfaith organisations.\nSr R
 osalie Hanley NDS was involved in Jewish-ChrisQan RelaQons at the Shalom C
 entre\, Kew\, from 1978 to 1989. Rosalie’s activities focused on education
  on the Holocaust\, which was needed in schools. Rosalie was the founding 
 Secretary of the Council of Christians and Jews (Vic) in 1985.\nKosher aft
 ernoon tea.\nDonations welcomed | Click here to register https://faithvict
 oria.org.au/upcoming-events/event/2281-a-friendly-guide-to-jewish-christia
 n-relations-council-of-christians-and-jews-victoria
DTSTART:20241117T140000Z
DTEND:20241117T163000Z
LOCATION:Our Lady of Sion College\, 1065 Whitehorse Rd\, Box Hill VIC 3128 
 (Our Lady of Sion College\, Our Lady of Sion College\, 1065 Whitehorse Rd\
 , Box Hill VIC 3128\, Australia)
SUMMARY:A Friendly Guide to Jewish-Christian Relations: Council of Christia
 ns and Jews Victoria
URL:https://faithvictoria.org.au/upcoming-events/event/2281-a-friendly-guid
 e-to-jewish-christian-relations-council-of-christians-and-jews-victoria
END:VEVENT
END:VCALENDAR
