BEGIN:VCALENDAR
VERSION:2.0
PRODID:-//https://faithvictoria.org.au///NONSGML kigkonsult.se iCalcreator 2.10.15//
METHOD:PUBLISH
BEGIN:VEVENT
UID:20260419T150312UTC-6593mvE6TL@https://faithvictoria.org.au/
DTSTAMP:20260419T150312Z
DESCRIPTION:The Council of Christians and Jews Victoria invites you to:\nDe
 aling with Destruction: The interplay between the physical and the spiritu
 al\nDate: Sunday 4 August 2024&nbsp\; &nbsp\; &nbsp\;Time: 2pm to 3:30pmLo
 cation:&nbsp\;Temple Beth Israel\, 76-82 Alma Road\, St Kilda&nbsp\;\nSpea
 kers:\n\nRabbi Dr Allison Conyer\, newly inducted Senior Rabbi at Temple B
 eth Israel and Chair\, Assembly of Rabbis and Cantors of the Union of Prog
 ressive Judaism\, who will focus on Tisha B'Av: A Jewish paradigm for comm
 unal mourning as a way of dealing with physical and spiritual destruction.
 \nFollowed by a response by:\nRev Dr Julie Hall\, Minister\, Bentleigh Uni
 ting Church and Chair\, UCA VICTAS Working Group on Christian-Jewish Relat
 ions\n\n\nClick here to register. https://faithvictoria.org.au/upcoming-ev
 ents/event/2264-dealing-with-destruction-council-of-christians-and-jews-vi
 ctoria
DTSTART:20240804T140000Z
DTEND:20240804T153000Z
LOCATION:Temple Beth Israel\, 76 - 82 Alma Road\, St Kilda\, Victoria\, 318
 2 (Temple Beth Israel\, 76 - 82 Alma Road\, St Kilda\, Victoria\, 3182)
SUMMARY:Dealing with Destruction: Council of Christians and Jews Victoria
URL:https://faithvictoria.org.au/upcoming-events/event/2264-dealing-with-de
 struction-council-of-christians-and-jews-victoria
END:VEVENT
END:VCALENDAR
