BEGIN:VCALENDAR
VERSION:2.0
PRODID:-//https://faithvictoria.org.au///NONSGML kigkonsult.se iCalcreator 2.10.15//
METHOD:PUBLISH
BEGIN:VEVENT
UID:20260422T172455UTC-9560MxXvlu@https://faithvictoria.org.au/
DTSTAMP:20260422T172455Z
DESCRIPTION:The Hobsons Bay Interfaith Network invites you to:\nThe Interfa
 ith Connections and Reconciliation Leadership\nDate: Thursday 30 May 2024&
 nbsp\; &nbsp\; &nbsp\;Time: 11am to 1pmLocation:&nbsp\;The Holy Trinity Co
 mmunity Centre\, 255 Nelson Place\, Williamstown&nbsp\;\nThis event aims t
 o bring together voices from diverse faiths and cultures to be a positive 
 force in the reconciliation conversation. It will&nbsp\;explore the respon
 sibilities of faith communities during&nbsp\;National Reconciliation Week.
 &nbsp\;\nIn doing so\, it will provide a platform for minority voices to b
 e heard\, which they say is crucial as they are at the heart of the conver
 sation.&nbsp\;\nClick here for more information.&nbsp\; https://faithvicto
 ria.org.au/upcoming-events/event/2257-the-interfaith-connections-and-recon
 ciliation-leadership-hobsons-bay-interfaith-network
DTSTART:20240530T110000Z
DTEND:20240530T130000Z
LOCATION:The Holy Trinity Community Centre\, 255 Nelson Place\, Williamstow
 n Victoria 3016 (255 Nelson Pl\, Williamstown VIC 3016\, Australia)
SUMMARY:The Interfaith Connections and Reconciliation Leadership: Hobsons B
 ay Interfaith Network
URL:https://faithvictoria.org.au/upcoming-events/event/2257-the-interfaith-
 connections-and-reconciliation-leadership-hobsons-bay-interfaith-network
END:VEVENT
END:VCALENDAR
