BEGIN:VCALENDAR
VERSION:2.0
PRODID:-//https://faithvictoria.org.au///NONSGML kigkonsult.se iCalcreator 2.10.15//
METHOD:PUBLISH
BEGIN:VEVENT
UID:20260422T190656UTC-5368c4XIre@https://faithvictoria.org.au/
DTSTAMP:20260422T190656Z
DESCRIPTION:ChristmasThursday 25 December 2025Religion: Christianity\nChris
 tmas is the celebration of the birth of Jesus Christ\, who is considered b
 y Christians to be the Son of God\, and the savior of all people.\n[Celebr
 ated on January 7th 2025 by some Orthodox Churches]. https://faithvictoria
 .org.au/upcoming-events/event/2256-christmas-christianity
DTSTART;VALUE=DATE:20251225
LOCATION:RSEvents!Pro Location (Colorado\, USA)
SUMMARY:Christmas (Christianity)
URL:https://faithvictoria.org.au/upcoming-events/event/2256-christmas-chris
 tianity
END:VEVENT
END:VCALENDAR
