BEGIN:VCALENDAR
VERSION:2.0
PRODID:-//https://faithvictoria.org.au///NONSGML kigkonsult.se iCalcreator 2.10.15//
METHOD:PUBLISH
BEGIN:VEVENT
UID:20260423T235859UTC-16601i5taN@https://faithvictoria.org.au/
DTSTAMP:20260423T235859Z
DESCRIPTION:Boddhi DayMonday 8 December 2025Religion: Buddhism Bodhi Day is
  a Buddhist holiday commemorating the day the historical Buddha\, Siddhart
 ha Gautama reached enlightenment around 596 BCE. Prince Gautama took his p
 lace under the Bodhi tree vowing to remain there until he attained supreme
  enlightenment.[Also celebrated on the 8th of December in the solar calend
 ar] https://faithvictoria.org.au/upcoming-events/event/2255-bodhi-day-budd
 hism
DTSTART;VALUE=DATE:20251208
LOCATION:RSEvents!Pro Location (Colorado\, USA)
SUMMARY:Bodhi Day (Buddhism)
URL:https://faithvictoria.org.au/upcoming-events/event/2255-bodhi-day-buddh
 ism
END:VEVENT
END:VCALENDAR
