BEGIN:VCALENDAR
VERSION:2.0
PRODID:-//https://faithvictoria.org.au///NONSGML kigkonsult.se iCalcreator 2.10.15//
METHOD:PUBLISH
BEGIN:VEVENT
UID:20260423T222112UTC-5915EVeUU6@https://faithvictoria.org.au/
DTSTAMP:20260423T222112Z
DESCRIPTION:SamvatsariThursday 28 August 2025Faith: Jainism\nKnown as the F
 estival of Forgiveness\, Samvatsari is celebrated on the last day of Paryu
 shana. On this day\, Jains (Swetamber sect) offer and seek forgiveness for
  their actions committed knowingly or unknowingly.\n&nbsp\; https://faithv
 ictoria.org.au/upcoming-events/event/2231-samvatsari-jainism
DTSTART;VALUE=DATE:20250828
LOCATION:RSEvents!Pro Location (Colorado\, USA)
SUMMARY:Samvatsari | Jainism
URL:https://faithvictoria.org.au/upcoming-events/event/2231-samvatsari-jain
 ism
END:VEVENT
END:VCALENDAR
