BEGIN:VCALENDAR
VERSION:2.0
PRODID:-//https://faithvictoria.org.au///NONSGML kigkonsult.se iCalcreator 2.10.15//
METHOD:PUBLISH
BEGIN:VEVENT
UID:20260423T070523UTC-5332v8HV2e@https://faithvictoria.org.au/
DTSTAMP:20260423T070523Z
DESCRIPTION:Mahavir JayantiThursday 10 April 2025Faith: Jainism\nCelebrates
  the birth of Lord Mahavira\, the 24th and last Tirthankar (enlightened sp
 iritual Master) in Jainism. Images of Lord Mahavira are paraded through th
 e streets while performing rituals and preaching about Lord Mahavira’s tea
 chings. https://faithvictoria.org.au/upcoming-events/event/2203-mahavir-ja
 yanti-jainism
DTSTART;VALUE=DATE:20250410
LOCATION:RSEvents!Pro Location (Colorado\, USA)
SUMMARY:Mahavir Jayanti | Jainism
URL:https://faithvictoria.org.au/upcoming-events/event/2203-mahavir-jayanti
 -jainism
END:VEVENT
END:VCALENDAR
