BEGIN:VCALENDAR
VERSION:2.0
PRODID:-//https://faithvictoria.org.au///NONSGML kigkonsult.se iCalcreator 2.10.15//
METHOD:PUBLISH
BEGIN:VEVENT
UID:20260424T000139UTC-8960AWSD0V@https://faithvictoria.org.au/
DTSTAMP:20260424T000139Z
DESCRIPTION:Ahmadiyya Muslim Community Shepparton invites you to:\nFasting 
 in my religion | Ramadan dinner\nDate: Saturday 16 March 2024&nbsp\; &nbsp
 \; &nbsp\;Time: 6:15pmLocation:&nbsp\;Vibert Reserve\, South Shepparton Co
 mmunity House\, 290 Archer Street\, Shepparton VIC 3630\nJoin us for an in
 terfaith Iftaar dinner\, celebrating the rich tradition of fasting and spi
 rituality across Buddhism\, Christianity\, Hinduism\, Judaism\, Sikhism an
 d Islam. Together\, let's break bread and barriers\, embracing the unity i
 n our diverse faiths.\nFor more information\, click here.&nbsp\; https://f
 aithvictoria.org.au/upcoming-events/event/2171-fasting-in-my-religion-ahma
 diyya-muslim-community-shepparton
DTSTART:20240316T181500Z
DTEND:20240316T210000Z
LOCATION:Vibert Reserve\, South Shepparton Community House\, 290 Archer Str
 eet\, Shepparton VIC 3630 (290 Archer St\, Shepparton VIC 3630\, Australia
 )
SUMMARY:Fasting in my Religion: Ahmadiyya Muslim Community Shepparton
URL:https://faithvictoria.org.au/upcoming-events/event/2171-fasting-in-my-r
 eligion-ahmadiyya-muslim-community-shepparton
END:VEVENT
END:VCALENDAR
