BEGIN:VCALENDAR
VERSION:2.0
PRODID:-//https://faithvictoria.org.au///NONSGML kigkonsult.se iCalcreator 2.10.15//
METHOD:PUBLISH
BEGIN:VEVENT
UID:20260423T121920UTC-1378c0TJev@https://faithvictoria.org.au/
DTSTAMP:20260423T121920Z
DESCRIPTION:Whittlesea Interfaith Network invites you to:\nOur Shared Stori
 es - Celebrating Together | Harmony Day\nDate: Thursday 21 March 2024&nbsp
 \; &nbsp\; &nbsp\; Time: 5:45pm to 8pmLocation: Mill Park Library\, 394 Pl
 enty Rd\, Mill Park VIC 3082\nYou are warmly invited to join us for our in
 terfaith Harmony Day event during Cultural Diversity Week.\nIn the spirit 
 of harmony\, our team is joining with City of Whittlesea &amp\; Mill Park 
 Library to co-host this event\, featuring multicultural performances\, gue
 st speakers to share stories\, Q&amp\;A and light.\nThis year\, the Cultur
 al Diversity Week theme is 'Our Shared Stories – Celebrating Together' whi
 ch asks us to reflect on our own experiences and recognise how each story 
 has the potential to create shared connections and understanding.\nDates\,
  water and a prayer space will be provided for anyone observing fasting du
 ring Ramadan.\nMore information: 0430 582 078 | info@whittleseainterfaith.
 org.auClick here for flyer https://faithvictoria.org.au/upcoming-events/ev
 ent/2169-our-shared-stories-celebrating-together-whittlesea-interfaith-net
 work
DTSTART:20240321T174500Z
DTEND:20240321T200000Z
LOCATION:Mill Park Library\, 394 Plenty Rd\, Mill Park\, Vic\, 3082 (394 Pl
 enty Rd\, Mill Park VIC 3082\, Australia)
SUMMARY:Our Shared Stories - Celebrating Together: Whittlesea Interfaith Ne
 twork
URL:https://faithvictoria.org.au/upcoming-events/event/2169-our-shared-stor
 ies-celebrating-together-whittlesea-interfaith-network
END:VEVENT
END:VCALENDAR
