BEGIN:VCALENDAR
VERSION:2.0
PRODID:-//https://faithvictoria.org.au///NONSGML kigkonsult.se iCalcreator 2.10.15//
METHOD:PUBLISH
BEGIN:VEVENT
UID:20260423T210402UTC-4915lzFIpp@https://faithvictoria.org.au/
DTSTAMP:20260423T210402Z
DESCRIPTION:SalamFest invites you to:\nStreet Iftar in the City\nDate: Sund
 ay 17 March 2024&nbsp\; &nbsp\; &nbsp\;Time: 7:30pm to 9:30pmLocation: Que
 en Victoria Market Parking Area\, 456 Queen Street\, Melbourne Victoria 30
 00\nPeople of all faiths and backgrounds are invited to share a meal with 
 the Muslim community at QVM in the City of Melbourne on the 17th of March 
 2024.\nSalamFest and Inspiring Connections will host a street iftar at Que
 en Victoria market\, which will be an opportunity learn more about Ramadan
  and to celebrate our contributions to the wider community.\nThe iftar\, o
 r breaking of the fast\, takes place following maghrib (sunset) prayers ea
 ch evening during the sacred Islamic month of Ramadan.\nWe would love peop
 le join us at the iconic Queen Victoria markets\, to break bread and exper
 ience breaking of our fast\, and engage in meaningful conversations.\nTo r
 egister\, click&nbsp\;here.&nbsp\; https://faithvictoria.org.au/upcoming-e
 vents/event/2168-street-iftar-salamfest
DTSTART:20240317T193000Z
DTEND:20240317T213000Z
LOCATION:Queen Victoria Market Parking Area\, 456 Queen Street\, Melbourne 
 Victoria 3000 (456 Queen St\, Melbourne VIC 3000\, Australia)
SUMMARY:Street Iftar: SalamFest
URL:https://faithvictoria.org.au/upcoming-events/event/2168-street-iftar-sa
 lamfest
END:VEVENT
END:VCALENDAR
