BEGIN:VCALENDAR
VERSION:2.0
PRODID:-//https://faithvictoria.org.au///NONSGML kigkonsult.se iCalcreator 2.10.15//
METHOD:PUBLISH
BEGIN:VEVENT
UID:20260423T104436UTC-8022BHF4rv@https://faithvictoria.org.au/
DTSTAMP:20260423T104436Z
DESCRIPTION:Calm in the City invites you to:\nMeditation and Peacebuilding 
 Forum II: Inner Peace\, Outer Peace\nDate: Friday 22 March 2024&nbsp\; &nb
 sp\; Time: 2pm to 4pmLocation: Old Warden's Lodge\, Trinity College\, Univ
 ersity of Melbourne\, 100 Royal Parade\, Parkville VIC 3052\nFollowing the
  inaugural Meditation and Peacebuilding Forum: Learning and Opportunities 
 (see&nbsp\;here) held in June 2023\, the next forum has been organised in 
 response to the reflections and feedback from the inaugural forum\, as wel
 l as a response to the call of these critical times.\n&nbsp\;\nIndividuals
  from all faiths\, meditators and peacebuilders are warmly invited to come
  with the integrity of their own practice to sit together for a silent med
 itation as a healing space for all the suffering in our world is held coll
 ectively.\n&nbsp\;\nThere is power in collective meditation and wisdom dic
 tates that the more demanding the times\, the more the need to deepen medi
 tation\, prayer and connection.\n&nbsp\;\nFollowing the meditation\, there
  will be reflection and dialogue around shared peace-building going forwar
 d as the next steps.&nbsp\;\n&nbsp\;\nSpaces are limited\, so we ask that 
 you do register your attendance via Eventbrite. https://faithvictoria.org.
 au/upcoming-events/event/2165-meditation-and-peacebuilding-ii-calm-in-the-
 city
DTSTART:20240322T140000Z
DTEND:20240322T160000Z
LOCATION:Trinity College Theological School\, Old Warden's Lodge\, 100 Roya
 l Parade\, Parkville VIC 3052 (100 Royal Parade\, Parkville VIC 3052\, Aus
 tralia)
SUMMARY:Meditation and Peacebuilding II: Calm in the City
URL:https://faithvictoria.org.au/upcoming-events/event/2165-meditation-and-
 peacebuilding-ii-calm-in-the-city
END:VEVENT
END:VCALENDAR
