BEGIN:VCALENDAR
VERSION:2.0
PRODID:-//https://faithvictoria.org.au///NONSGML kigkonsult.se iCalcreator 2.10.15//
METHOD:PUBLISH
BEGIN:VEVENT
UID:20260423T065959UTC-4301bHmmAC@https://faithvictoria.org.au/
DTSTAMP:20260423T065959Z
DESCRIPTION:Refugee Advocacy Network invites you to:\nPalm Sunday Walk for 
 Justice and Peace\nDate: Sunday 24 March 2024&nbsp\; &nbsp\; &nbsp\;Time: 
 10amLocation: Parliament Gardens (Cnr Nicholson and Albert Streets)\n10am&
 nbsp\; &nbsp\; &nbsp\; &nbsp\; &nbsp\;Welcome to country and informal gath
 ering10.30am&nbsp\; &nbsp\; Interfaith Gathering: Reflections on Peace and
  Justice from various faith perspectives.Speakers on peace-making\, the ex
 perience of seeking asylum in Australia\, and policy changes needed in the
  treatment of people seeking refugee protection11.15am&nbsp\; &nbsp\; Walk
  for Peace and Justice to City Centre\, returning to Parliament Gardens11.
 45am&nbsp\; &nbsp\; Closing speaker and music by refugees and others\nClic
 k here to view flyer for further details https://faithvictoria.org.au/upco
 ming-events/event/2164-palm-sunday-walk-2024-refugee-advocacy-network
DTSTART:20240324T100000Z
DTEND:20240324T120000Z
LOCATION:Parliament Gardens\, Melbourne VIC 3000 (489/531 Albert St\, East 
 Melbourne VIC 3002\, Australia)
SUMMARY:Palm Sunday Walk 2024: Refugee Advocacy Network
URL:https://faithvictoria.org.au/upcoming-events/event/2164-palm-sunday-wal
 k-2024-refugee-advocacy-network
END:VEVENT
END:VCALENDAR
