BEGIN:VCALENDAR
VERSION:2.0
PRODID:-//https://faithvictoria.org.au///NONSGML kigkonsult.se iCalcreator 2.10.15//
METHOD:PUBLISH
BEGIN:VEVENT
UID:20260424T234103UTC-9270XZhRHW@https://faithvictoria.org.au/
DTSTAMP:20260424T234103Z
DESCRIPTION:The Council of Christians and Jews invites you to:\nProphetabil
 ity: the wealth of prophecy in Judaism and Christianity\nDate: Sunday 23 J
 uly 2023&nbsp\; &nbsp\; &nbsp\;Time: 1:40pm for 2pm startLocation:&nbsp\;E
 tz Chayim Progressive Synagogue\, 549 Centre Road Bentleigh VIC 3204\nRev 
 Dr Merryl Blair OAM and Rabbi Fred Morgan AM will introduce the roles that
  the prophets play in Jewish and Christian scripture\, liturgy and theolog
 y\, the differences between their treatment in the two faith traditions\, 
 and similarities in function and meaning using two passages which are high
 lighted in both Judaism and Christianity: Isaiah 54:1-10\,and 2 Kings 5.\n
 The seminar will take the form of a dialogue\, and participation from the 
 audience will be welcomed. https://faithvictoria.org.au/upcoming-events/ev
 ent/2123-prophetability-the-wealth-of-prophecy-in-judaism-and-christianity
 -council-of-christians-and-jews-inc
DTSTART:20230723T134000Z
DTEND:20230723T150000Z
LOCATION:Etz Chayim Progressive Synagogue\,  549 Centre Road Bentleigh (Etz
  Chayim Progressive Synagogue\, 549 Centre Road\, Bentleigh VIC 3204\, Aus
 tralia)
SUMMARY:Prophetability: the wealth of prophecy in Judaism and Christianity:
  Council of Christians and Jews Inc
URL:https://faithvictoria.org.au/upcoming-events/event/2123-prophetability-
 the-wealth-of-prophecy-in-judaism-and-christianity-council-of-christians-a
 nd-jews-inc
END:VEVENT
END:VCALENDAR
