BEGIN:VCALENDAR
VERSION:2.0
PRODID:-//https://faithvictoria.org.au///NONSGML kigkonsult.se iCalcreator 2.10.15//
METHOD:PUBLISH
BEGIN:VEVENT
UID:20260423T154355UTC-4418kGfajJ@https://faithvictoria.org.au/
DTSTAMP:20260423T154355Z
DESCRIPTION:Martyrdom of Guru Tegh Bahadur Ji Sunday&nbsp\;24 November 2024
 Religion: Sikhism\nGuru Tegh Bahadur (1621-1675) was the 9th Guru of the S
 ikhs. He was publicly beheaded by the emperor of the day in 1675 for his d
 efense of the Sikh faith and for upholding the right to practice religious
  freedom. https://faithvictoria.org.au/upcoming-events/event/2101-martyrdo
 m-of-guru-tegh-bahadur-ji-sikhism
DTSTART;VALUE=DATE:20241124
LOCATION:RSEvents!Pro Location (Colorado\, USA)
SUMMARY:Martyrdom of Guru Tegh Bahadur Ji (Sikhism)
URL:https://faithvictoria.org.au/upcoming-events/event/2101-martyrdom-of-gu
 ru-tegh-bahadur-ji-sikhism
END:VEVENT
END:VCALENDAR
