BEGIN:VCALENDAR
VERSION:2.0
PRODID:-//https://faithvictoria.org.au///NONSGML kigkonsult.se iCalcreator 2.10.15//
METHOD:PUBLISH
BEGIN:VEVENT
UID:20260422T155214UTC-5303vnoAEO@https://faithvictoria.org.au/
DTSTAMP:20260422T155214Z
DESCRIPTION:KshamavaniThursday 5 September 2024Faith: Jainism\nKnown as 'Fo
 rgiveness Day'\, Kshamavani is celebrated on the last day of Daslakshana. 
 On this day\, Jains (Digambara sect) offer and seek forgiveness for action
 s committed knowingly or unknowingly. https://faithvictoria.org.au/upcomin
 g-events/event/2084-kshamavani-jainism
DTSTART;VALUE=DATE:20240905
LOCATION:RSEvents!Pro Location (Colorado\, USA)
SUMMARY:Kshamavani | Jainism
URL:https://faithvictoria.org.au/upcoming-events/event/2084-kshamavani-jain
 ism
END:VEVENT
END:VCALENDAR
