BEGIN:VCALENDAR
VERSION:2.0
PRODID:-//https://faithvictoria.org.au///NONSGML kigkonsult.se iCalcreator 2.10.15//
METHOD:PUBLISH
BEGIN:VEVENT
UID:20260420T012205UTC-7647jimgBb@https://faithvictoria.org.au/
DTSTAMP:20260420T012205Z
DESCRIPTION:All Saints DayFriday 1 November 2024Religion: Christianity\nAll
  Saints Day honours exemplary Christians who achieved sainthood\, especial
 ly those not having a special day. For many Christian denominations\, all 
 Saints Day is a remembrance of departed Christian people of any time and p
 lace. https://faithvictoria.org.au/upcoming-events/event/2054-all-saints-d
 ay-christianity
DTSTART;VALUE=DATE:20241101
LOCATION:RSEvents!Pro Location (Colorado\, USA)
SUMMARY:All Saints Day (Christianity)
URL:https://faithvictoria.org.au/upcoming-events/event/2054-all-saints-day-
 christianity
END:VEVENT
END:VCALENDAR
