BEGIN:VCALENDAR
VERSION:2.0
PRODID:-//https://faithvictoria.org.au///NONSGML kigkonsult.se iCalcreator 2.10.15//
METHOD:PUBLISH
BEGIN:VEVENT
UID:20260419T194734UTC-7254uO0VJs@https://faithvictoria.org.au/
DTSTAMP:20260419T194734Z
DESCRIPTION:The Interfaith Centre of Melbourne invites you to:\nBringing Ou
 r Multifaith Neighbours Together for Reconciliation: The Voice\nDate: Sund
 ay 26 February 2023&nbsp\; &nbsp\; &nbsp\;Time: 5:30pm to 7:30pmLocation:&
 nbsp\;Melbourne Town Hall 90-130 Swanston Street Melbourne\, VIC 3000&nbsp
 \;\nReligious and Community leaders and leaders from the wider community a
 re invited to attend this special World Interfaith Harmony Week event to h
 ear clear information about the Voice to Parliament from First Nations Peo
 ple with lived experience\, and leaders who are working for Reconciliation
 .\nGuest speakers:\n\nProfessor Jay Wandin Murphy\, AO | Senior Wurundjeri
  Elder of the Kulin Nation\nFr Frank Brennan\, SJ AJ | Senior Advisory Gro
 up Member&nbsp\;\nAunty Helen Bnads | Birri Gubba / Bindal Group Nth Qld C
 herbourg Aboriginal Mission and Elder / Cultural Lead\, Community Care\, C
 ommunity Health\, Peninsula Health\nBishop Philip Huggins | Director\, Cen
 tre for Ecumenical Studies\, Australian Centre for Christianity and Cultur
 e\nDr Diana Cousens | Vice-President\, Buddhist Council of Victoria\nRabbi
  Gabi Kaltmann | Ark Centre\nMohamed Mohideen OAM | Vice-President\, Islam
 ic Council of Victoria\n\nQuestion and Answer time will be scheduled for a
 ll those important questions.\nFor flyer\, click here&nbsp\;\nRegistration
  is essential. Seats are limited | To book tickets\, click here.&nbsp\;\nM
 ore information: info@interfaithecentre.org.au&nbsp\;| 0400 228 146\n&nbsp
 \; https://faithvictoria.org.au/upcoming-events/event/2016-bringing-our-mu
 ltifaith-neighbours-together-for-reconciliation-the-interfaith-centre-of-m
 elbourne
DTSTART:20230226T173000Z
DTEND:20230226T193000Z
LOCATION:Melbourne Town Hall\, 90-120 Swanston Street Melbourne Victoria (M
 elbourne Town Hall\, 90-120 Swanston Street Melbourne Victoria)
SUMMARY:Bringing Our Multifaith Neighbours Together for Reconciliation: The
  Interfaith Centre of Melbourne
URL:https://faithvictoria.org.au/upcoming-events/event/2016-bringing-our-mu
 ltifaith-neighbours-together-for-reconciliation-the-interfaith-centre-of-m
 elbourne
END:VEVENT
END:VCALENDAR
