BEGIN:VCALENDAR
VERSION:2.0
PRODID:-//https://faithvictoria.org.au///NONSGML kigkonsult.se iCalcreator 2.10.15//
METHOD:PUBLISH
BEGIN:VEVENT
UID:20260419T175721UTC-23194UeKNg@https://faithvictoria.org.au/
DTSTAMP:20260419T175721Z
DESCRIPTION:KshamavaniWednesday 20 September 2023Faith: Jainism\nKnown as '
 Forgiveness Day'\, Kshamavani is celebrated on the last day of Daslakshana
 . On this day\, Jains (Digambara sect) offer and seek forgiveness for acti
 ons committed knowingly or unknowingly. https://faithvictoria.org.au/upcom
 ing-events/event/1985-kshamavani-jainism
DTSTART;VALUE=DATE:20230920
LOCATION:RSEvents!Pro Location (Colorado\, USA)
SUMMARY:Kshamavani | Jainism
URL:https://faithvictoria.org.au/upcoming-events/event/1985-kshamavani-jain
 ism
END:VEVENT
END:VCALENDAR
