BEGIN:VCALENDAR
VERSION:2.0
PRODID:-//https://faithvictoria.org.au///NONSGML kigkonsult.se iCalcreator 2.10.15//
METHOD:PUBLISH
BEGIN:VEVENT
UID:20260419T161852UTC-6811U1JFiT@https://faithvictoria.org.au/
DTSTAMP:20260419T161852Z
DESCRIPTION:DaslakshanaBegins on Tuesday 19 September 2023Ends on Thursday 
 28 September 2023Faith: Jainism\nDaslakshana is a ten-day festival celebra
 ted by Jains (Digambara sect)\, honouring the ten cardinal virtues of the 
 soul: forgiveness\, humility\, straight forwardness\, contentment\, truth\
 , sensual restraint\, austerities\, charity\, non-possessiveness\, and cel
 ibacy. https://faithvictoria.org.au/upcoming-events/event/1984-daslakshana
 -jainism
DTSTART;VALUE=DATE:20230919
LOCATION:RSEvents!Pro Location (Colorado\, USA)
SUMMARY:Daslakshana | Jainism
URL:https://faithvictoria.org.au/upcoming-events/event/1984-daslakshana-jai
 nism
END:VEVENT
END:VCALENDAR
