BEGIN:VCALENDAR
VERSION:2.0
PRODID:-//https://faithvictoria.org.au///NONSGML kigkonsult.se iCalcreator 2.10.15//
METHOD:PUBLISH
BEGIN:VEVENT
UID:20260422T135604UTC-5671HWo6hi@https://faithvictoria.org.au/
DTSTAMP:20260422T135604Z
DESCRIPTION:Nirvana DayWednesday 15 February 2023Religion: Buddhism (Mahaya
 na)\nNirvana Day (or Parinirvana Day) is a Mahayana Buddhist holiday which
  celebrates the day when the Buddha is said to have achieved Parinirvana (
 complete enlightenment) upon the death of his physical body. https://faith
 victoria.org.au/upcoming-events/event/1937-nirvana-day-buddhism
DTSTART;VALUE=DATE:20230215
LOCATION:RSEvents!Pro Location (Colorado\, USA)
SUMMARY:Nirvana Day (Buddhism)
URL:https://faithvictoria.org.au/upcoming-events/event/1937-nirvana-day-bud
 dhism
END:VEVENT
END:VCALENDAR
