BEGIN:VCALENDAR
VERSION:2.0
PRODID:-//https://faithvictoria.org.au///NONSGML kigkonsult.se iCalcreator 2.10.15//
METHOD:PUBLISH
BEGIN:VEVENT
UID:20260425T015048UTC-0268DhHpdw@https://faithvictoria.org.au/
DTSTAMP:20260425T015048Z
DESCRIPTION:Monash Interfaith Gathering Inc invites you to:\nIntercultural 
 High Tea Book Club gathering | NAIDOC Week event\nDate: Monday 4 July 2022
 &nbsp\; &nbsp\; Time: 10am to 12pmLocation:&nbsp\;Clayton Community Centre
  Library\, 9-15 Cooke St\, Clayton&nbsp\;\nAn aboriginal elder Aunty Sherr
 ee\, has been invited to join us in person to share the First Nation's ora
 l tradition of story telling and the how story telling is imbued in all of
  their activities. Archie Roach's life story will be shared\, along with s
 ongs which poignantly tell his life history. As this event will be our fir
 st face to face session for 2 1/2 years\, a splendid 'HIGH TEA' will be pr
 ovided. This FREE event will not be available online.\nTo book you free ti
 cket\, please click here.&nbsp\; https://faithvictoria.org.au/upcoming-eve
 nts/event/1880-intercultural-high-tea-book-club-monash-interfaith-gatherin
 g
DTSTART:20220704T100000Z
DTEND:20220704T120000Z
LOCATION:Clayton Community Centre Library\, 9-15 Cooke St\, Clayton VIC 316
 8 (9/15 Cooke St\, Clayton VIC 3168\, Australia)
SUMMARY:Intercultural High Tea Book Club: Monash Interfaith Gathering
URL:https://faithvictoria.org.au/upcoming-events/event/1880-intercultural-h
 igh-tea-book-club-monash-interfaith-gathering
END:VEVENT
END:VCALENDAR
