BEGIN:VCALENDAR
VERSION:2.0
PRODID:-//https://faithvictoria.org.au///NONSGML kigkonsult.se iCalcreator 2.10.15//
METHOD:PUBLISH
BEGIN:VEVENT
UID:20260421T185247UTC-1965PavzxC@https://faithvictoria.org.au/
DTSTAMP:20260421T185247Z
DESCRIPTION:Monash Interfaith Gathering invites you to:\nVisit to Place of 
 Worship:&nbsp\;Christian Science Church in Mount Waverley\nDate:&nbsp\;Thu
 rsday 21 April 2022&nbsp\; &nbsp\; &nbsp\;Time:&nbsp\;7:30pm to 8:30pmLoca
 tion:&nbsp\;256 Stephensons Rd\, Mount Waverely 3149\nVisit includes a tou
 r of the church and a session with the priest.&nbsp\;\n&nbsp\;Click&nbsp\;
 here&nbsp\;to book. https://faithvictoria.org.au/upcoming-events/event/186
 5-visit-to-places-of-worship-monash-interfaith-gathering
DTSTART:20220421T193000Z
DTEND:20220421T203000Z
LOCATION:First Church of Christ\, Scientist\, 256 Stephensons Road Mount Wa
 verley VIC 3149 (256 Stephensons Rd\, Mount Waverley VIC 3149\, Australia)
SUMMARY:Visit to Places of Worship: Monash Interfaith Gathering
URL:https://faithvictoria.org.au/upcoming-events/event/1865-visit-to-places
 -of-worship-monash-interfaith-gathering
END:VEVENT
END:VCALENDAR
