BEGIN:VCALENDAR
VERSION:2.0
PRODID:-//https://faithvictoria.org.au///NONSGML kigkonsult.se iCalcreator 2.10.15//
METHOD:PUBLISH
BEGIN:VEVENT
UID:20260422T190957UTC-4295u2nK2t@https://faithvictoria.org.au/
DTSTAMP:20260422T190957Z
DESCRIPTION:Kingston Interfaith Network invites you to:\nKingston Interfait
 h Bus Tour\nDate: Thursday 20 May 2021&nbsp\; &nbsp\; &nbsp\;Time: 9am to 
 4pmMeeting point: Kingston Council Building\, 34 Brindisi St\, Mentone\nJo
 in us on a free tour of local places of workshop.&nbsp\;\nA great opportun
 ity to have a guided tour and learn about different faiths in a welcoming 
 environment.&nbsp\;\nThis year\, we are visiting:\n\nChùa Bảo Minh AusTemp
 le\nAUMSAI Sansthan Temple\n• Church of Jesus Christ of Latter-Day Saints 
 Chapel\nKeysborough Turkish Islamic&nbsp\;and Cultural Centre\n\nLunch wil
 l be provided. Modest clothing worn in all places of worship is appreciate
 d.\nBookings essential | For flyer\, please click here.&nbsp\;\nRSVP: 5pm 
 Monday 10 May 2021 to elisabetta.robecchi@kingston.vic.gov.au&nbsp\;| (03)
  9581 4783 https://faithvictoria.org.au/upcoming-events/event/1777-kingsto
 n-interfaith-bus-tour-kingston-interfaith-network
DTSTART:20210520T090000Z
DTEND:20210520T160000Z
LOCATION:Kingston Council Mentone Office\, 34 Brindisi St\, Mentone (34 Bri
 ndisi St\, Mentone VIC 3194\, Australia)
SUMMARY:Kingston Interfaith Bus Tour: Kingston Interfaith Network
URL:https://faithvictoria.org.au/upcoming-events/event/1777-kingston-interf
 aith-bus-tour-kingston-interfaith-network
END:VEVENT
END:VCALENDAR
