BEGIN:VCALENDAR
VERSION:2.0
PRODID:-//https://faithvictoria.org.au///NONSGML kigkonsult.se iCalcreator 2.10.15//
METHOD:PUBLISH
BEGIN:VEVENT
UID:20260422T042635UTC-3303PL5d2X@https://faithvictoria.org.au/
DTSTAMP:20260422T042635Z
DESCRIPTION:The Wyndham Interfaith Network in partnership with Hoppers Cros
 sing Uniting Church and Karen Congregation of the Werribee Baptist Church&
 nbsp\;invites you to:\nAll Saints: Film Screening | Refugee Week\nDate:&nb
 sp\;Saturday 23 June 2018&nbsp\; &nbsp\; &nbsp\; &nbsp\; &nbsp\;&nbsp\;Tim
 e:&nbsp\;3pm to 6pmLocation:&nbsp\;Hoppers Crossing Uniting Church\, 235 D
 errimut Rd\, Hoppers Crossing\, Vic 3019\nAn event organised by Wyndham In
 terfaith Network. A film showing A pastor's first assignment is to close a
  church and sell the prime piece of land where it sits. He is challenged w
 hen the Church starts to welcome refugees from Burma. Mark Htoo Saw a rela
 tive of those featured will share reflections on the refugee experience. C
 ome share an inspiring true story of displacement\, discomfort\, faith and
  discovery.&nbsp\;\nThis is an opportunity for faith communities to come t
 ogether in support of refugees at a time of need.&nbsp\; We show through o
 ur actions that our varied traditions welcome and&nbsp\; support the stran
 ger in our midst. Come share an inspiring true story of displacement\, dis
 comfort\, faith and discovery.&nbsp\;https://www.youtube.com/watch?v=RdCDo
 EowA6k&nbsp\;. The story&nbsp\; gives focus&nbsp\; to the experience of&nb
 sp\; refugees (the Karen) in a new country and the challenge a faith commu
 nity has in deciding which need&nbsp\; takes&nbsp\; priority. We will hear
  from a&nbsp\; local speaker whose who&rsquo\;s Karen brother in America f
 eatures in the film to relate themes of the story to experience in Austral
 ia.\nThe venue has&nbsp\;a seating capacity for 160 guests.&nbsp\;&nbsp\;
 \nCost:&nbsp\;$5 (adults) | Children free |&nbsp\;Refreshments will be pro
 vided\nBookings:&nbsp\;Please click&nbsp\;here.&nbsp\;More information:&nb
 sp\;Laurence Gray | Wyndham Community &amp\; Education Centre | 03 9742 40
 13 https://faithvictoria.org.au/upcoming-events/event/1366-all-saints-film
 -screening-refugee-week-wyndham-interfaith-network
DTSTART:20180623T150000Z
DTEND:20180623T180000Z
LOCATION:Hoppers Crossing Uniting Church\, 235 Derrimut Rd\, Hoppers Crossi
 ng\, Vic 3019 (235 Derrimut Rd\, Hoppers Crossing VIC 3029\, Australia)
SUMMARY:All Saints Film Screening Refugee Week: Wyndham Interfaith Network
URL:https://faithvictoria.org.au/upcoming-events/event/1366-all-saints-film
 -screening-refugee-week-wyndham-interfaith-network
END:VEVENT
END:VCALENDAR
