BEGIN:VCALENDAR
VERSION:2.0
PRODID:-//https://faithvictoria.org.au///NONSGML kigkonsult.se iCalcreator 2.10.15//
METHOD:PUBLISH
BEGIN:VEVENT
UID:20260422T042743UTC-02107C87k9@https://faithvictoria.org.au/
DTSTAMP:20260422T042743Z
DESCRIPTION:Lajna Ima&rsquo\;illah (the Women&rsquo\;s Auxiliary) of Ahmadi
 yya Muslim Association Victoria invites you to&nbsp\;\nWomen&rsquo\;s Educ
 ation is key to a Peaceful World: An Interfaith Symposium\nDate: Saturday 
 23 June 2018&nbsp\; &nbsp\; &nbsp\; &nbsp\;Time: 11 for 11:30am start to 2
 pmLocation:&nbsp\;Bait-us-Salam Mosque\, 6 Leisureland Drive\, Langwarrin 
 VIC 3910You are invited to an interfaith luncheon to bring together women 
 from different faiths\, including parliamentarians and the civics\, to eng
 age in meaningful dialogue and infuse mutual understanding between differe
 nt ethnic views.\nSpeakers:\n\nDr Colleen O'Reilly ( The Vicar of St Georg
 e's Anglican Church\, Malvern and Canon of St Paul's Cathedral.\nMarcia Pi
 nskier ( The Director of Jewish Museum of Australia and member of Advisoru
  Board of John Curtin Research Centre)\nKaren Money ( Principal Melbourne 
 Girl's College\, Richmond)\nKhola Usman ( member of Ahmadiyya Muslim Assoc
 iation)\n\nWe endeavour to discuss the importance of women's education and
  the role it can play for achieving peace in the world. The Holy Prophet o
 f Islam (peace be upon him) has made the pursuit of education compulsory f
 or both men and women\, recognising that this regulation is essential for&
 nbsp\;peace and progress of a society. Please click here for the invitatio
 n and the program.\nPlease note:&nbsp\;Ladies only eventRSVP: 10 June&nbsp
 \; 2018 |&nbsp\;lajnasymposium.ama.vic@gmail.com&nbsp\;| Khola Usman 0449 
 665 263 | Saleha Usman 0424 127 422 |&nbsp\;Saman Khan 0466 520 251 | Taye
 bba Bushra 0433 933 090 https://faithvictoria.org.au/upcoming-events/event
 /1365-womens-education-is-key-to-a-peaceful-world-lajna-imaillah-victoria
DTSTART:20180623T110000Z
DTEND:20180623T140000Z
LOCATION:Bait-us-Salam Mosque\, 6 Leisureland Drive\, Langwarrin VIC 3910 (
 6 Leisureland Dr\, Langwarrin VIC 3910\, Australia)
SUMMARY:Women's Education is key to a Peaceful World: Lajna Imaillah Victor
 ia
URL:https://faithvictoria.org.au/upcoming-events/event/1365-womens-educatio
 n-is-key-to-a-peaceful-world-lajna-imaillah-victoria
END:VEVENT
END:VCALENDAR
