BEGIN:VCALENDAR
VERSION:2.0
PRODID:-//https://faithvictoria.org.au///NONSGML kigkonsult.se iCalcreator 2.10.15//
METHOD:PUBLISH
BEGIN:VEVENT
UID:20260422T024707UTC-5447nSPJno@https://faithvictoria.org.au/
DTSTAMP:20260422T024707Z
DESCRIPTION:Fo Guang Shan Melbourne and Buddha&rsquo\;s Light International
  Association of Victoria invite you to:\nBuddha's Day &amp\; Multicultural
  Festival 2018\nDate: Saturday 19 May 2018&nbsp\; &nbsp\; Time: 10am to 7p
 mDate: Sunday 20 May 2018&nbsp\; &nbsp\; &nbsp\; &nbsp\;Time: 10am to 5pmL
 ocation: Federation Square\, Melbourne\, Victoria\nThe free annual Buddha&
 rsquo\;s Day and Multicultural Festival is a not-for-profit festival\, whi
 ch promotes inclusiveness\, cultural awareness\, cultural understanding\; 
 and enhances community spirit and social harmony.\nFor a detailed program\
 , click here or visit the Facebook page.&nbsp\; https://faithvictoria.org.
 au/upcoming-events/event/1358-buddhas-day-multicultural-festival-2018
DTSTART:20180519T100000Z
DTEND:20180519T190000Z
LOCATION:Federation Square\, Melbourne (Federation Square\, Melbourne VIC 3
 000\, Australia)
SUMMARY:Buddha's Day & Multicultural Festival 2018
URL:https://faithvictoria.org.au/upcoming-events/event/1358-buddhas-day-mul
 ticultural-festival-2018
END:VEVENT
END:VCALENDAR
