BEGIN:VCALENDAR
VERSION:2.0
PRODID:-//https://faithvictoria.org.au///NONSGML kigkonsult.se iCalcreator 2.10.15//
METHOD:PUBLISH
BEGIN:VEVENT
UID:20260424T121540UTC-5329IjLO08@https://faithvictoria.org.au/
DTSTAMP:20260424T121540Z
DESCRIPTION:Islamic Council of Victoria Invites you to:\nVictorian Open Mos
 que Day 2018\nDate: Sunday 16 April 2018&nbsp\; &nbsp\; &nbsp\; Time: 10am
  to 4pmLocation:&nbsp\;Islamic Council of Victoria\, 66-68 Jeffcott St\, W
 est Melbourne\, Victoria\, Australia 3003\nSeveral Mosques opened their he
 arts and doors for the Islamic Council of Victoria&rsquo\;s (ICV) - Victor
 ian Mosque Open Day project launch last year. Hundreds of Victorians flock
 ed to a local Mosque near them to get to know their Muslim neighbours\, pa
 rtaking in guided Mosque tours\, hijab tutorials\, henna tattoo art\, jump
 ing castles and other activities for kids\, sausage sizzles and discussion
 s about Islamic beliefs.\nThe state-wide annual event\, supported by the V
 ictorian Multicultural Commission and Victorian Government (Office of Mult
 icultural Affairs and Social Cohesion) is back this year\, in an attempt t
 o drum out the rise of Islamophobia.\nParticipating Mosques will open thei
 r doors to the Victorian public ‪on Sunday\, April 15 anytime between ‪10-
 4pm.\nThere are an estimated 200\,000 Muslims currently living in Victoria
  and over 476\,291 nationwide\, have you met one?\nThe following mosques a
 nd Islamic communities will open their doors on the day anytime between 10
 -4pm\;\n\nAlbanian Mosque (Albanian Australian Islamic Society) @ 765 Drum
 mond St\, Carlton North\nBenevolence Australia @ 125 George St\, Doncaster
  East\nCity Mosque (Islamic Council of Victoria) @ 66-68 Jeffcott St\, Mel
 bourne West\nDoncaster Mosque (UMMA Centre) @72 George St\, Doncaster East
 \nElsedeaq Heidelberg Mosque @ 32 Elliott St\, Heidelberg Heights\nIslamic
  Association of Monash Mosque @ 16 Beddoe Ave\, Clayton\nIslamic Museum of
  Australia (IMA) @ 15A Anderson Rd\, Thornbury\nLight of Hidayaah Mosque @
  TBC\nNewport Mosque @ 23/31 Blenheim Rd\, Newport\nOmar Farooq Mosque @ 1
 4-16 Photomia St\, Doveton\nPreston Mosque @ 90 Cramer St\, Preston\nVirgi
 n Mary Mosque (WIC) @ 143A Hogans Road\, Hoppers Crossing\n\nFind your nea
 rest participating mosque and keep up to date with the Victorian Mosque Op
 en Day here. https://faithvictoria.org.au/upcoming-events/event/1326-victo
 rian-mosque-open-day-islamic-council-of-victoria
DTSTART;VALUE=DATE:20180415
LOCATION:Islamic Council of Victoria\, 66-68 Jeffcott St\, West Melbourne\,
  Victoria\, Australia 3003 (66-68 Jeffcott St\, West Melbourne VIC 3003\, 
 Australia)
SUMMARY:Victorian Mosque Open Day: Islamic Council of Victoria
URL:https://faithvictoria.org.au/upcoming-events/event/1326-victorian-mosqu
 e-open-day-islamic-council-of-victoria
END:VEVENT
END:VCALENDAR
