BEGIN:VCALENDAR
VERSION:2.0
PRODID:-//https://faithvictoria.org.au///NONSGML kigkonsult.se iCalcreator 2.10.15//
METHOD:PUBLISH
BEGIN:VEVENT
UID:20260421T052248UTC-20496ppOtj@https://faithvictoria.org.au/
DTSTAMP:20260421T052248Z
DESCRIPTION:Boxing Day\nFor more information on Victoria's Public Holidays 
 see:&nbsp\;http://www.victoriapublicholiday.com.au/ https://faithvictoria.
 org.au/upcoming-events/event/1316-boxing-day-public-holiday
DTSTART;VALUE=DATE:20191226
LOCATION:RSEvents!Pro Location (Colorado\, USA)
SUMMARY:Boxing Day (Public Holiday)
URL:https://faithvictoria.org.au/upcoming-events/event/1316-boxing-day-publ
 ic-holiday
END:VEVENT
END:VCALENDAR
