BEGIN:VCALENDAR
VERSION:2.0
PRODID:-//https://faithvictoria.org.au///NONSGML kigkonsult.se iCalcreator 2.10.15//
METHOD:PUBLISH
BEGIN:VEVENT
UID:20260421T052339UTC-7772iMaIHE@https://faithvictoria.org.au/
DTSTAMP:20260421T052339Z
DESCRIPTION:Christmas Day\nFor more information on Victoria's Public Holida
 ys see:&nbsp\;http://www.victoriapublicholiday.com.au/ https://faithvictor
 ia.org.au/upcoming-events/event/1315-christmas-public-holiday
DTSTART;VALUE=DATE:20191225
LOCATION:RSEvents!Pro Location (Colorado\, USA)
SUMMARY:Christmas (Public Holiday)
URL:https://faithvictoria.org.au/upcoming-events/event/1315-christmas-publi
 c-holiday
END:VEVENT
END:VCALENDAR
