BEGIN:VCALENDAR
VERSION:2.0
PRODID:-//https://faithvictoria.org.au///NONSGML kigkonsult.se iCalcreator 2.10.15//
METHOD:PUBLISH
BEGIN:VEVENT
UID:20260421T050334UTC-89847LLpTp@https://faithvictoria.org.au/
DTSTAMP:20260421T050334Z
DESCRIPTION:Melbourne Cup Day\nFor more information on Victoria's Public Ho
 lidays see:&nbsp\;http://www.victoriapublicholiday.com.au/ https://faithvi
 ctoria.org.au/upcoming-events/event/1314-melbourne-cup-day-public-holiday
DTSTART;VALUE=DATE:20191105
LOCATION:RSEvents!Pro Location (Colorado\, USA)
SUMMARY:Melbourne Cup Day (Public Holiday)
URL:https://faithvictoria.org.au/upcoming-events/event/1314-melbourne-cup-d
 ay-public-holiday
END:VEVENT
END:VCALENDAR
