BEGIN:VCALENDAR
VERSION:2.0
PRODID:-//https://faithvictoria.org.au///NONSGML kigkonsult.se iCalcreator 2.10.15//
METHOD:PUBLISH
BEGIN:VEVENT
UID:20260421T052441UTC-7065d0zAk4@https://faithvictoria.org.au/
DTSTAMP:20260421T052441Z
DESCRIPTION:Queen's Birthday\nFor more information on Victoria's Public Hol
 idays see:&nbsp\;http://www.victoriapublicholiday.com.au/ https://faithvic
 toria.org.au/upcoming-events/event/1312-queens-birthday-public-holiday
DTSTART;VALUE=DATE:20190610
LOCATION:RSEvents!Pro Location (Colorado\, USA)
SUMMARY:Queen's Birthday (Public Holiday) 
URL:https://faithvictoria.org.au/upcoming-events/event/1312-queens-birthday
 -public-holiday
END:VEVENT
END:VCALENDAR
