BEGIN:VCALENDAR
VERSION:2.0
PRODID:-//https://faithvictoria.org.au///NONSGML kigkonsult.se iCalcreator 2.10.15//
METHOD:PUBLISH
BEGIN:VEVENT
UID:20260421T052423UTC-1937EJjUHx@https://faithvictoria.org.au/
DTSTAMP:20260421T052423Z
DESCRIPTION:ANZAC Day\nFor more information on Victoria's Public Holidays s
 ee: www.victoriapublicholiday.com.au https://faithvictoria.org.au/upcoming
 -events/event/1311-anzac-day-public-holiday
DTSTART;VALUE=DATE:20190425
LOCATION:RSEvents!Pro Location (Colorado\, USA)
SUMMARY:ANZAC Day (Public Holiday)
URL:https://faithvictoria.org.au/upcoming-events/event/1311-anzac-day-publi
 c-holiday
END:VEVENT
END:VCALENDAR
