BEGIN:VCALENDAR
VERSION:2.0
PRODID:-//https://faithvictoria.org.au///NONSGML kigkonsult.se iCalcreator 2.10.15//
METHOD:PUBLISH
BEGIN:VEVENT
UID:20260421T051900UTC-4257uVRnFC@https://faithvictoria.org.au/
DTSTAMP:20260421T051900Z
DESCRIPTION:Easter Monday\nFor more information on Victoria's Public Holida
 ys see:&nbsp\;http://www.victoriapublicholiday.com.au/ https://faithvictor
 ia.org.au/upcoming-events/event/1310-easter-monday-public-holiday
DTSTART;VALUE=DATE:20190422
LOCATION:RSEvents!Pro Location (Colorado\, USA)
SUMMARY:Easter Monday (Public Holiday)
URL:https://faithvictoria.org.au/upcoming-events/event/1310-easter-monday-p
 ublic-holiday
END:VEVENT
END:VCALENDAR
