BEGIN:VCALENDAR
VERSION:2.0
PRODID:-//https://faithvictoria.org.au///NONSGML kigkonsult.se iCalcreator 2.10.15//
METHOD:PUBLISH
BEGIN:VEVENT
UID:20260421T052502UTC-3490g5VuBG@https://faithvictoria.org.au/
DTSTAMP:20260421T052502Z
DESCRIPTION:Saturday before Easter Sunday\nFor more information on Victoria
 's Public Holidays see:&nbsp\;http://www.victoriapublicholiday.com.au/ htt
 ps://faithvictoria.org.au/upcoming-events/event/1308-saturday-before-easte
 r-sunday-public-holiday
DTSTART;VALUE=DATE:20190420
LOCATION:RSEvents!Pro Location (Colorado\, USA)
SUMMARY:Saturday before Easter Sunday (Public Holiday)
URL:https://faithvictoria.org.au/upcoming-events/event/1308-saturday-before
 -easter-sunday-public-holiday
END:VEVENT
END:VCALENDAR
