BEGIN:VCALENDAR
VERSION:2.0
PRODID:-//https://faithvictoria.org.au///NONSGML kigkonsult.se iCalcreator 2.10.15//
METHOD:PUBLISH
BEGIN:VEVENT
UID:20260421T052206UTC-5290l0sjGN@https://faithvictoria.org.au/
DTSTAMP:20260421T052206Z
DESCRIPTION:Good Friday\nFor more information on Victoria's Public Holidays
  see:&nbsp\;http://www.victoriapublicholiday.com.au/ https://faithvictoria
 .org.au/upcoming-events/event/1307-good-friday-public-holiday
DTSTART;VALUE=DATE:20190419
LOCATION:RSEvents!Pro Location (Colorado\, USA)
SUMMARY:Good Friday (Public Holiday)
URL:https://faithvictoria.org.au/upcoming-events/event/1307-good-friday-pub
 lic-holiday
END:VEVENT
END:VCALENDAR
