BEGIN:VCALENDAR
VERSION:2.0
PRODID:-//https://faithvictoria.org.au///NONSGML kigkonsult.se iCalcreator 2.10.15//
METHOD:PUBLISH
BEGIN:VEVENT
UID:20260421T051853UTC-8847dHVzCL@https://faithvictoria.org.au/
DTSTAMP:20260421T051853Z
DESCRIPTION:Easter Sunday\nFor more information on Victoria's Public Holida
 ys see:&nbsp\;http://www.victoriapublicholiday.com.au/\n&nbsp\; https://fa
 ithvictoria.org.au/upcoming-events/event/1306-easter-sunday-public-holiday
DTSTART;VALUE=DATE:20190421
LOCATION:RSEvents!Pro Location (Colorado\, USA)
SUMMARY:Easter Sunday (Public Holiday)
URL:https://faithvictoria.org.au/upcoming-events/event/1306-easter-sunday-p
 ublic-holiday
END:VEVENT
END:VCALENDAR
