BEGIN:VCALENDAR
VERSION:2.0
PRODID:-//https://faithvictoria.org.au///NONSGML kigkonsult.se iCalcreator 2.10.15//
METHOD:PUBLISH
BEGIN:VEVENT
UID:20260421T052027UTC-0557VwuPUv@https://faithvictoria.org.au/
DTSTAMP:20260421T052027Z
DESCRIPTION:New Year's Day\nFor more information on Victoria's Public Holid
 ays see:&nbsp\;http://www.victoriapublicholiday.com.au/ https://faithvicto
 ria.org.au/upcoming-events/event/1305-new-years-day
DTSTART;VALUE=DATE:20180101
LOCATION:RSEvents!Pro Location (Colorado\, USA)
SUMMARY:New Year's Day
URL:https://faithvictoria.org.au/upcoming-events/event/1305-new-years-day
END:VEVENT
END:VCALENDAR
