BEGIN:VCALENDAR
VERSION:2.0
PRODID:-//https://faithvictoria.org.au///NONSGML kigkonsult.se iCalcreator 2.10.15//
METHOD:PUBLISH
BEGIN:VEVENT
UID:20260419T185238UTC-9161rRuOkA@https://faithvictoria.org.au/
DTSTAMP:20260419T185238Z
DESCRIPTION:Rosh HashanahBegins:&nbsp\;Tuesday&nbsp\;7 September&nbsp\;2021
 Ends:&nbsp\;Wednesday&nbsp\;8 September&nbsp\;2021Religion: Judaism\nJewis
 h New Year festival\, marked by the blowing of the horn (shofar) which beg
 ins the ten days of penitence culminating in Yom Kippur (Day of Atonement)
 . It is the beginning of the holiest time of the year for Jews\, and the a
 nniversary of the creation of the world. https://faithvictoria.org.au/upco
 ming-events/event/1278-rosh-hashanah-judaism
DTSTART;VALUE=DATE:20210907
LOCATION:RSEvents!Pro Location (Colorado\, USA)
SUMMARY:Rosh Hashanah (Judaism)
URL:https://faithvictoria.org.au/upcoming-events/event/1278-rosh-hashanah-j
 udaism
END:VEVENT
END:VCALENDAR
