BEGIN:VCALENDAR
VERSION:2.0
PRODID:-//https://faithvictoria.org.au///NONSGML kigkonsult.se iCalcreator 2.10.15//
METHOD:PUBLISH
BEGIN:VEVENT
UID:20260424T090636UTC-6799NHXC5I@https://faithvictoria.org.au/
DTSTAMP:20260424T090636Z
DESCRIPTION:Eid ul AdhaBegins: Wednesday 22 August 2018Ends: Saturday 25 Au
 gust 2018Religion: Islam\nCommemorates Ibrahim&rsquo\;s (Abraham) willingn
 ess to sacrifice his son as an act of submission to God&rsquo\;s command. 
 Also known as &lsquo\;Feast of Sacrifice&rsquo\;. One of the two main Isla
 mic festivals (the other being Eid al Fitr). https://faithvictoria.org.au/
 upcoming-events/event/1275-eid-ul-adha-islam
DTSTART;VALUE=DATE:20180822
LOCATION:RSEvents!Pro Location (Colorado\, USA)
SUMMARY:Eid ul Adha (Islam)
URL:https://faithvictoria.org.au/upcoming-events/event/1275-eid-ul-adha-isl
 am
END:VEVENT
END:VCALENDAR
