BEGIN:VCALENDAR
VERSION:2.0
PRODID:-//https://faithvictoria.org.au///NONSGML kigkonsult.se iCalcreator 2.10.15//
METHOD:PUBLISH
BEGIN:VEVENT
UID:20260420T012026UTC-0400r0OBuh@https://faithvictoria.org.au/
DTSTAMP:20260420T012026Z
DESCRIPTION:Darebin Ethnic Communities Council invites you to:\nAnnual mult
 icultural and multi-faith procession and reflection\nDate: Saturday 12 Dec
 ember 2020&nbsp\; &nbsp\; &nbsp\; &nbsp\;Time: 3pmLocation:&nbsp\;Ray Bram
 ham Gardens\, Corner Bell Street &amp\; St Georges Road\, Preston VIC 3072
 (parking at back of Darebin Arts Centre)\nThe event will be hosted on UN I
 nternational Day of Remembrance and Dignity for All Victims of Genocide an
 d Atrocity Crimes&nbsp\;in the presence of the Mayor of Darebin City Counc
 il\, Cr. Lina Messina.\nCandles\, Incense and Flowers will be supplied.\nC
 ontact&nbsp\;for further information: Nalliah Suriyakumaran\,&nbsp\;DECC C
 hairperson | 0468 330 113\nThis event is supported by the Darebin City Cou
 ncil\n&nbsp\;\n&nbsp\;\n&nbsp\; https://faithvictoria.org.au/upcoming-even
 ts/event/1746-annual-multicultural-and-multi-faith-procession-and-reflecti
 on-darebin-ethnic-communities-council
DTSTART:20201212T150000Z
DTEND:20201212T170000Z
LOCATION:Ray Bramham Gardens\, Corner Bell Street & St Georges Road\, Prest
 on VIC 3072 (Ray Bramham Gardens\, St Georges Rd\, Preston VIC 3072\, Aust
 ralia)
SUMMARY:Annual multicultural and multi-faith procession and reflection: Dar
 ebin Ethnic Communities Council
URL:https://faithvictoria.org.au/upcoming-events/event/1746-annual-multicul
 tural-and-multi-faith-procession-and-reflection-darebin-ethnic-communities
 -council
END:VEVENT
END:VCALENDAR
