BEGIN:VCALENDAR
VERSION:2.0
PRODID:-//https://faithvictoria.org.au///NONSGML kigkonsult.se iCalcreator 2.10.15//
METHOD:PUBLISH
BEGIN:VEVENT
UID:20260424T174101UTC-0241eb6rSu@https://faithvictoria.org.au/
DTSTAMP:20260424T174101Z
DESCRIPTION:AdventBegins: Sunday 1 December 2024Ends: Tuesday 24 December 2
 024Religion: Christianity\nAdvent is the period leading up to Christmas. I
 t begins on the fourth Sunday before Christmas (Advent Sunday) and continu
 es through to December 24th (Christmas Eve). In Western churches\, Advent 
 Sunday marks the beginning of the Christian liturgical year. https://faith
 victoria.org.au/upcoming-events/event/2053-advent-christianity
DTSTART:20241201T165422Z
DTEND:20241224T165423Z
LOCATION:RSEvents!Pro Location (Colorado\, USA)
SUMMARY:Advent (Christianity)
URL:https://faithvictoria.org.au/upcoming-events/event/2053-advent-christia
 nity
END:VEVENT
BEGIN:VEVENT
UID:20260424T174101UTC-0248BW9dAI@https://faithvictoria.org.au/
DTSTAMP:20260424T174101Z
DESCRIPTION:The City of Greater Dandenong Interfaith Network invites you to
 :\nA Tour to Places of Worship 2024\nDate:&nbsp\;Wednesday&nbsp\;11 Decemb
 er 2024&nbsp\; &nbsp\; &nbsp\;&nbsp\;Time:&nbsp\;8:30am to 3:00pm&nbsp\;To
 ur departs from:&nbsp\;Interfaith Network Office\, Level 1\, 39 Clow Stree
 t\, Dandenong (Free parking available off Stuart Street\, behind IFN Offic
 e)\nThe Interfaith Network is a group of diverse cultural and religious fa
 iths\, working in partnership with the Greater Dandenong Council to promot
 e peace and harmony within the municipality.\nThe community is invited to 
 attend public tours for an opportunity to see the diversity within our are
 a\, focusing on the religious and faith dimension of multiculturalism.\nTo
 ur FeaturesAn opportunity to visit the places of worship of the local fait
 h communities\, including:\n\nThe Hindu Temple in Carrum Downs\nA Mosque\,
  either in Dandenong or Noble Park\nA Buddhist Temple\, either Springvale 
 South\, Noble Park\, or Keysborough\nA Christian Church\, either Western o
 r Eastern tradition\nA Jewish Temple in Bentleigh or St Kilda\nAn Islamic 
 Mosque in Dandenong or Keysborough\nA Sikh Gurdwara in Blackburn or Keysbo
 rough\nBrahma Kumaris in Frankston South\nSpiritual traditions\n\nTour Dat
 es 2024\n\nWednesday 14 August\, 8.30am-3pm\nWednesday 9 October\, 8.30am-
 3pm\nWednesday 11 December\, 8.30am-3pm\n\nHow to registerTour registratio
 n and payment is required in advance of the Tour.\nCost:&nbsp\;$25/person 
 | Click here for webpage.&nbsp\;\nFor further information about the tour\,
  including registration and payment\, please contact Paris Sard\, IFN Comm
 unity Education Officer\, via\, education@interfaith.net.au&nbsp\;| 03 877
 4 7662.\nIf you require additional assistance to participate\, please get 
 in contact with us.\nRespectful Practices:\n\nModest clothing worn in all 
 Places of Worship would be appreciated.\nAll are requested to remove their
  shoes before entering the Sikh Gurdwara\, Hindu and Buddhist Temples and 
 Mosque.\nAll are asked to wear socks on entering the Mosque and women ente
 ring the Mosque are asked to cover their heads and wear clothing which cov
 ers arms to wrists and legs to ankles\, men are asked to cover their heads
  in the Jewish Synagogue\, and all are asked to cover their heads in the G
 urdwara.\nPLEASE BRING YOUR OWN HEAD COVERING FOR THE MOSQUE\; head coveri
 ng is only provided in the Synagogue &amp\; Gurdwara.&nbsp\;\nVisitors sho
 uld have no tobacco on their person when entering the Gurdwara\n https://f
 aithvictoria.org.au/upcoming-events/event/2276-tour-3-to-places-of-worship
 -2024-interfaith-network-of-greater-dandenong
DTSTART:20241211T083000Z
DTEND:20241211T150000Z
LOCATION:Interfaith Network Office\, 39 Clow Street\, Dandenong VIC 3175 (3
 9 Clow St\, Dandenong VIC 3175\, Australia)
SUMMARY:Tour 3 to Places of Worship 2024: Interfaith Network of Greater Dan
 denong
URL:https://faithvictoria.org.au/upcoming-events/event/2276-tour-3-to-place
 s-of-worship-2024-interfaith-network-of-greater-dandenong
END:VEVENT
END:VCALENDAR
