BEGIN:VCALENDAR
VERSION:2.0
PRODID:-//https://faithvictoria.org.au///NONSGML kigkonsult.se iCalcreator 2.10.15//
METHOD:PUBLISH
BEGIN:VEVENT
UID:20260419T214217UTC-4202pFl2MB@https://faithvictoria.org.au/
DTSTAMP:20260419T214217Z
DESCRIPTION:The Ark Centre invites you to:\nPillars of Light\nDate: 10 Decm
 eber to 17 December 2020&nbsp\; &nbsp\; &nbsp\;Time: 7pm to 9pmLocation: A
 trium\, Federation Square\, Melbourne 3000\nA little bit of light can disp
 el a lot of darkness.\nSwing by Fed Square’s Atrium this December and you’
 ll stumble upon a light show with a difference.\nPillars of Light\, in cel
 ebration of Chanukah\, is providing Melbournians with an opportunity to co
 me together over a multicultural celebration\, focusing on what unites us 
 as a city.\nEach evening features a bespoke program highlighting the core 
 precepts of connection and collaboration through guest speakers\, dignitar
 ies\, artistic performers\, cultural groups\, sports people and more\, who
 ’ll be invited to sign the pillars with a note\, bringing together our var
 ied communities through hope\, positivity\, love and light.\nDon’t miss th
 e Grand Menorah Lighting on Thursday 10 December.\nTo book\, click here. F
 or the program\, click here.&nbsp\; https://faithvictoria.org.au/upcoming-
 events/event/1745-pillars-of-light-the-ark-centre
DTSTART:20201210T190000Z
DTEND:20201210T210000Z
LOCATION:Federation Square\, Melbourne VIC 3000 (Swanston St & Flinders St\
 , Melbourne VIC 3000\, Australia)
SUMMARY:Pillars of Light: The Ark Centre
URL:https://faithvictoria.org.au/upcoming-events/event/1745-pillars-of-ligh
 t-the-ark-centre
END:VEVENT
END:VCALENDAR
